BEGIN:VCALENDAR
VERSION:2.0
PRODID:icalendar-ruby
CALSCALE:GREGORIAN
METHOD:PUBLISH
BEGIN:VEVENT
DTSTAMP:20260421T092441Z
UID:70-44894@cclanders.com
DTSTART:20261006T170000Z
DTEND:20261027T190000Z
CLASS:PUBLIC
CREATED:20260420T163224
DESCRIPTION:
LAST-MODIFIED:20260420T163224
LOCATION:55474 New Dixie Mine Rd. Landers\, CA 92285 (In The Fellowship Hal
 l)
SUMMARY:Women Of Grace Bible Study
URL;VALUE=URI:https://cclanders.com/events/women-of-grace-bible-study/2026-
 10-06
ATTACH;FILENAME=WOG-Adorned-tithley-copy.jpg;FMTTYPE=image/jpeg:https://dq5
 pwpg1q8ru0.cloudfront.net/2026/03/25/01/51/48/75ee542f-d8ba-4346-8288-f06e
 db3c9ec7/WOG-Adorned-tithley-copy.jpg
END:VEVENT
END:VCALENDAR
